BEGIN:VCALENDAR
VERSION:2.0
PRODID:-//Squarespace Inc/Squarespace 6//v6//EN
BEGIN:VEVENT
UID:5982f43e6b8f5b77870ad6fe@squarespace.com
DTSTAMP:20170803T100128Z
DTSTART:20180125T190000Z
DTEND:20180128T040000Z
SUMMARY:KR2 - Cambridge Town Cup Regatta 
GEO:-37.944087;175.565069
LOCATION:Lake Karapiro
END:VEVENT
END:VCALENDAR
