BEGIN:VCALENDAR
VERSION:2.0
PRODID:-//Squarespace Inc/Squarespace 6//v6//EN
BEGIN:VEVENT
UID:5982f4e2c534a5551b1f666d@squarespace.com
DTSTAMP:20170811T012505Z
DTSTART:20180302T020000Z
DTEND:20180304T040000Z
SUMMARY:North Island Secondary Schools Regatta
GEO:-37.944087;175.565069
LOCATION:Lake Karapiro
END:VEVENT
END:VCALENDAR
